BEGIN:VCALENDAR
VERSION:2.0
PRODID:-//William Osler Health System Foundation - ECPv6.15.3//NONSGML v1.0//EN
CALSCALE:GREGORIAN
METHOD:PUBLISH
X-WR-CALNAME:William Osler Health System Foundation
X-ORIGINAL-URL:https://oslerfoundation.org
X-WR-CALDESC:Events for William Osler Health System Foundation
REFRESH-INTERVAL;VALUE=DURATION:PT1H
X-Robots-Tag:noindex
X-PUBLISHED-TTL:PT1H
BEGIN:VTIMEZONE
TZID:UTC
BEGIN:STANDARD
TZOFFSETFROM:+0000
TZOFFSETTO:+0000
TZNAME:UTC
DTSTART:20260101T000000
END:STANDARD
END:VTIMEZONE
BEGIN:VEVENT
DTSTART;VALUE=DATE:20260624
DTEND;VALUE=DATE:20260625
DTSTAMP:20260419T120145
CREATED:20260116T194605Z
LAST-MODIFIED:20260130T163154Z
UID:7499-1782259200-1782345599@oslerfoundation.org
SUMMARY:Osler Open: Brampton Invitational 2026
DESCRIPTION:
URL:https://oslerfoundation.org/event/osler-open-brampton-invitational-4/
LOCATION:TPC Toronto at Osprey Valley
CATEGORIES:Signature Events
ATTACH;FMTTYPE=image/jpeg:https://oslerfoundation.org/wp-content/uploads/2026/01/2026-OOB-684x524-V2A.jpg
END:VEVENT
END:VCALENDAR